BEGIN:VCALENDAR
VERSION:2.0
PRODID:-//AchtsamZeit - ECPv6.15.20//NONSGML v1.0//EN
CALSCALE:GREGORIAN
METHOD:PUBLISH
X-WR-CALNAME:AchtsamZeit
X-ORIGINAL-URL:https://www.achtsam-zeit.ch
X-WR-CALDESC:Veranstaltungen für AchtsamZeit
REFRESH-INTERVAL;VALUE=DURATION:PT1H
X-Robots-Tag:noindex
X-PUBLISHED-TTL:PT1H
BEGIN:VTIMEZONE
TZID:Europe/Berlin
BEGIN:DAYLIGHT
TZOFFSETFROM:+0100
TZOFFSETTO:+0200
TZNAME:CEST
DTSTART:20250330T010000
END:DAYLIGHT
BEGIN:STANDARD
TZOFFSETFROM:+0200
TZOFFSETTO:+0100
TZNAME:CET
DTSTART:20251026T010000
END:STANDARD
BEGIN:DAYLIGHT
TZOFFSETFROM:+0100
TZOFFSETTO:+0200
TZNAME:CEST
DTSTART:20260329T010000
END:DAYLIGHT
BEGIN:STANDARD
TZOFFSETFROM:+0200
TZOFFSETTO:+0100
TZNAME:CET
DTSTART:20261025T010000
END:STANDARD
BEGIN:DAYLIGHT
TZOFFSETFROM:+0100
TZOFFSETTO:+0200
TZNAME:CEST
DTSTART:20270328T010000
END:DAYLIGHT
BEGIN:STANDARD
TZOFFSETFROM:+0200
TZOFFSETTO:+0100
TZNAME:CET
DTSTART:20271031T010000
END:STANDARD
END:VTIMEZONE
BEGIN:VEVENT
DTSTART;TZID=Europe/Berlin:20261113T150000
DTEND;TZID=Europe/Berlin:20261115T140000
DTSTAMP:20260419T211732
CREATED:20240909T090843Z
LAST-MODIFIED:20250407T084829Z
UID:10000007-1794582000-1794751200@www.achtsam-zeit.ch
SUMMARY:Retreat / Auszeit
DESCRIPTION:Ein Wochenende für dich:\nStille Meditationsformen und körperliche Achtsamkeit.\nGönn dir ein paar Tage ohne Ablenkung. \nHier sind alle Infos \n 
URL:https://www.achtsam-zeit.ch/achtsamzeit/retreat-auszeit/
LOCATION:Propstei Wislikofen\,\, Wislikofen\, 5463
CATEGORIES:Auszeit
ATTACH;FMTTYPE=image/jpeg:https://www.achtsam-zeit.ch/wp-content/uploads/2024/04/IMG_4465_von-Gerda-scaled.jpeg
END:VEVENT
END:VCALENDAR