BEGIN:VCALENDAR
VERSION:2.0
PRODID:-//AchtsamZeit - ECPv6.15.20//NONSGML v1.0//EN
CALSCALE:GREGORIAN
METHOD:PUBLISH
X-WR-CALNAME:AchtsamZeit
X-ORIGINAL-URL:https://www.achtsam-zeit.ch
X-WR-CALDESC:Veranstaltungen für AchtsamZeit
REFRESH-INTERVAL;VALUE=DURATION:PT1H
X-Robots-Tag:noindex
X-PUBLISHED-TTL:PT1H
BEGIN:VTIMEZONE
TZID:Europe/Berlin
BEGIN:DAYLIGHT
TZOFFSETFROM:+0100
TZOFFSETTO:+0200
TZNAME:CEST
DTSTART:20250330T010000
END:DAYLIGHT
BEGIN:STANDARD
TZOFFSETFROM:+0200
TZOFFSETTO:+0100
TZNAME:CET
DTSTART:20251026T010000
END:STANDARD
BEGIN:DAYLIGHT
TZOFFSETFROM:+0100
TZOFFSETTO:+0200
TZNAME:CEST
DTSTART:20260329T010000
END:DAYLIGHT
BEGIN:STANDARD
TZOFFSETFROM:+0200
TZOFFSETTO:+0100
TZNAME:CET
DTSTART:20261025T010000
END:STANDARD
BEGIN:DAYLIGHT
TZOFFSETFROM:+0100
TZOFFSETTO:+0200
TZNAME:CEST
DTSTART:20270328T010000
END:DAYLIGHT
BEGIN:STANDARD
TZOFFSETFROM:+0200
TZOFFSETTO:+0100
TZNAME:CET
DTSTART:20271031T010000
END:STANDARD
END:VTIMEZONE
BEGIN:VEVENT
DTSTART;TZID=Europe/Berlin:20260202T060000
DTEND;TZID=Europe/Berlin:20260202T063000
DTSTAMP:20260421T181549
CREATED:20260111T161742Z
LAST-MODIFIED:20260111T162404Z
UID:10001114-1770012000-1770013800@www.achtsam-zeit.ch
SUMMARY:Mindful Morning
DESCRIPTION:Einfach nur sitzen – einfacher in der Gruppe.\nPer Zoom in Stille meditieren.\n50.– Fr. für 10 Mal / 10.– Fr. für 1 Mal
URL:https://www.achtsam-zeit.ch/achtsamzeit/mindful-morning/2026-02-02/
LOCATION:Online per Zoom\, Switzerland
CATEGORIES:Online,Training
ATTACH;FMTTYPE=image/jpeg:https://www.achtsam-zeit.ch/wp-content/uploads/2025/12/Mindful-Moring_Gestaltung.jpg
END:VEVENT
BEGIN:VEVENT
DTSTART;TZID=Europe/Berlin:20260205T060000
DTEND;TZID=Europe/Berlin:20260205T063000
DTSTAMP:20260421T181549
CREATED:20260111T161742Z
LAST-MODIFIED:20260111T162404Z
UID:10001115-1770271200-1770273000@www.achtsam-zeit.ch
SUMMARY:Mindful Morning
DESCRIPTION:Einfach nur sitzen – einfacher in der Gruppe.\nPer Zoom in Stille meditieren.\n50.– Fr. für 10 Mal / 10.– Fr. für 1 Mal
URL:https://www.achtsam-zeit.ch/achtsamzeit/mindful-morning/2026-02-05/
LOCATION:Online per Zoom\, Switzerland
CATEGORIES:Online,Training
ATTACH;FMTTYPE=image/jpeg:https://www.achtsam-zeit.ch/wp-content/uploads/2025/12/Mindful-Moring_Gestaltung.jpg
END:VEVENT
BEGIN:VEVENT
DTSTART;TZID=Europe/Berlin:20260206T190000
DTEND;TZID=Europe/Berlin:20260206T210000
DTSTAMP:20260421T181549
CREATED:20240909T093902Z
LAST-MODIFIED:20260111T160656Z
UID:10000010-1770404400-1770411600@www.achtsam-zeit.ch
SUMMARY:Anker-Abend
DESCRIPTION:Eine wiederkehrende Trainingseinheit\, um die Achtsamkeitspraxis nachhaltig ins Leben zu integrieren.\nVor Ort oder online per Zoom möglich\n30.– / Person / Abend\n10er-Abos für 270.–\nANMELDUNG: bis spätestens 17 Uhr per SMS oder Mail
URL:https://www.achtsam-zeit.ch/achtsamzeit/anker-abend/
LOCATION:Yoga-Zentrum Malters\,\, Werkstrasse 7\, Malters\, 6102
CATEGORIES:Training
ATTACH;FMTTYPE=image/png:https://www.achtsam-zeit.ch/wp-content/uploads/2024/11/Yoga-Raum-Malters-2024_01_klein.png
END:VEVENT
BEGIN:VEVENT
DTSTART;TZID=Europe/Berlin:20260223T060000
DTEND;TZID=Europe/Berlin:20260223T063000
DTSTAMP:20260421T181549
CREATED:20260111T162644Z
LAST-MODIFIED:20260205T095425Z
UID:10001219-1771826400-1771828200@www.achtsam-zeit.ch
SUMMARY:Mindful Morning
DESCRIPTION:Einfach nur sitzen – einfacher in der Gruppe.\nPer Zoom in Stille meditieren.\n50.– Fr. für 10 Mal / 10.– Fr. für 1 Mal
URL:https://www.achtsam-zeit.ch/achtsamzeit/mindful-morning-2/2026-02-23/
LOCATION:Online per Zoom\, Switzerland
CATEGORIES:Online,Training
ATTACH;FMTTYPE=image/jpeg:https://www.achtsam-zeit.ch/wp-content/uploads/2025/12/Mindful-Moring_Gestaltung.jpg
END:VEVENT
BEGIN:VEVENT
DTSTART;TZID=Europe/Berlin:20260226T060000
DTEND;TZID=Europe/Berlin:20260226T063000
DTSTAMP:20260421T181549
CREATED:20260111T162644Z
LAST-MODIFIED:20260205T095425Z
UID:10001220-1772085600-1772087400@www.achtsam-zeit.ch
SUMMARY:Mindful Morning
DESCRIPTION:Einfach nur sitzen – einfacher in der Gruppe.\nPer Zoom in Stille meditieren.\n50.– Fr. für 10 Mal / 10.– Fr. für 1 Mal
URL:https://www.achtsam-zeit.ch/achtsamzeit/mindful-morning-2/2026-02-26/
LOCATION:Online per Zoom\, Switzerland
CATEGORIES:Online,Training
ATTACH;FMTTYPE=image/jpeg:https://www.achtsam-zeit.ch/wp-content/uploads/2025/12/Mindful-Moring_Gestaltung.jpg
END:VEVENT
END:VCALENDAR