BEGIN:VCALENDAR
VERSION:2.0
PRODID:-//AchtsamZeit - ECPv6.15.20//NONSGML v1.0//EN
CALSCALE:GREGORIAN
METHOD:PUBLISH
X-ORIGINAL-URL:https://www.achtsam-zeit.ch
X-WR-CALDESC:Veranstaltungen für AchtsamZeit
REFRESH-INTERVAL;VALUE=DURATION:PT1H
X-Robots-Tag:noindex
X-PUBLISHED-TTL:PT1H
BEGIN:VTIMEZONE
TZID:Europe/Berlin
BEGIN:DAYLIGHT
TZOFFSETFROM:+0100
TZOFFSETTO:+0200
TZNAME:CEST
DTSTART:20240331T010000
END:DAYLIGHT
BEGIN:STANDARD
TZOFFSETFROM:+0200
TZOFFSETTO:+0100
TZNAME:CET
DTSTART:20241027T010000
END:STANDARD
BEGIN:DAYLIGHT
TZOFFSETFROM:+0100
TZOFFSETTO:+0200
TZNAME:CEST
DTSTART:20250330T010000
END:DAYLIGHT
BEGIN:STANDARD
TZOFFSETFROM:+0200
TZOFFSETTO:+0100
TZNAME:CET
DTSTART:20251026T010000
END:STANDARD
BEGIN:DAYLIGHT
TZOFFSETFROM:+0100
TZOFFSETTO:+0200
TZNAME:CEST
DTSTART:20260329T010000
END:DAYLIGHT
BEGIN:STANDARD
TZOFFSETFROM:+0200
TZOFFSETTO:+0100
TZNAME:CET
DTSTART:20261025T010000
END:STANDARD
END:VTIMEZONE
BEGIN:VEVENT
DTSTART;TZID=Europe/Berlin:20251104T183000
DTEND;TZID=Europe/Berlin:20251104T203000
DTSTAMP:20260421T225452
CREATED:20250507T114828Z
LAST-MODIFIED:20250507T114828Z
UID:10000027-1762281000-1762288200@www.achtsam-zeit.ch
SUMMARY:Achtsamkeitspraxis
DESCRIPTION:Der MBSR Kreis Luzern lädt ein\, deine Praxis im Alltag zu verankern. \njeden Dienstag ausser während den Schulferien\nab 18.30 Uhr\, höchstens 2 Stunden \nMit Achtsamkeitsmeditation\, Meditation im Sitzen\, Liegen\, Gehen und achtsamen Körperübungen.\nAngeleitet durch eine MBSR-Lehrperson des Kernteams. Und angelehnt an Vipassana\, Metta\, Yoga und MBSR. \nauf Dana/Spenden-Basis für Raum & Lehrende \nHier sind alle Infos
URL:https://www.achtsam-zeit.ch/achtsamzeit/achtsamkeitspraxis-6/
LOCATION:Zendo am Fluss\,\, Luzern
CATEGORIES:Training
ATTACH;FMTTYPE=image/png:https://www.achtsam-zeit.ch/wp-content/uploads/2024/01/Achtsamkeitspraxis_Postkarte.png
END:VEVENT
BEGIN:VEVENT
DTSTART;TZID=Europe/Berlin:20251129T090000
DTEND;TZID=Europe/Berlin:20251129T160000
DTSTAMP:20260421T225452
CREATED:20250117T093622Z
LAST-MODIFIED:20250507T115831Z
UID:10000020-1764406800-1764432000@www.achtsam-zeit.ch
SUMMARY:Tag der Achtsamkeit
DESCRIPTION:Refresher-Stunden\nFinden zusammen mit der Gruppe des 8 Wochen-Kurses statt\n140.– / Person / Tag \nAnmelden
URL:https://www.achtsam-zeit.ch/achtsamzeit/tag-der-achtsamkeit-4/
LOCATION:Yoga-Zentrum Malters\,\, Werkstrasse 7\, Malters\, 6102
CATEGORIES:Auszeit,Training
ATTACH;FMTTYPE=image/jpeg:https://www.achtsam-zeit.ch/wp-content/uploads/2024/09/ueber-den-Wolken_IMG_1579_quer.jpg
END:VEVENT
END:VCALENDAR