BEGIN:VCALENDAR
VERSION:2.0
PRODID:-//AchtsamZeit - ECPv6.15.20//NONSGML v1.0//EN
CALSCALE:GREGORIAN
METHOD:PUBLISH
X-WR-CALNAME:AchtsamZeit
X-ORIGINAL-URL:https://www.achtsam-zeit.ch
X-WR-CALDESC:Veranstaltungen für AchtsamZeit
REFRESH-INTERVAL;VALUE=DURATION:PT1H
X-Robots-Tag:noindex
X-PUBLISHED-TTL:PT1H
BEGIN:VTIMEZONE
TZID:Europe/Berlin
BEGIN:DAYLIGHT
TZOFFSETFROM:+0100
TZOFFSETTO:+0200
TZNAME:CEST
DTSTART:20240331T010000
END:DAYLIGHT
BEGIN:STANDARD
TZOFFSETFROM:+0200
TZOFFSETTO:+0100
TZNAME:CET
DTSTART:20241027T010000
END:STANDARD
BEGIN:DAYLIGHT
TZOFFSETFROM:+0100
TZOFFSETTO:+0200
TZNAME:CEST
DTSTART:20250330T010000
END:DAYLIGHT
BEGIN:STANDARD
TZOFFSETFROM:+0200
TZOFFSETTO:+0100
TZNAME:CET
DTSTART:20251026T010000
END:STANDARD
BEGIN:DAYLIGHT
TZOFFSETFROM:+0100
TZOFFSETTO:+0200
TZNAME:CEST
DTSTART:20260329T010000
END:DAYLIGHT
BEGIN:STANDARD
TZOFFSETFROM:+0200
TZOFFSETTO:+0100
TZNAME:CET
DTSTART:20261025T010000
END:STANDARD
END:VTIMEZONE
BEGIN:VEVENT
DTSTART;TZID=Europe/Berlin:20250902T183000
DTEND;TZID=Europe/Berlin:20250902T203000
DTSTAMP:20260422T022537
CREATED:20250507T114610Z
LAST-MODIFIED:20250507T114610Z
UID:10000025-1756837800-1756845000@www.achtsam-zeit.ch
SUMMARY:Achtsamkeitspraxis
DESCRIPTION:Der MBSR Kreis Luzern lädt ein\, deine Praxis im Alltag zu verankern. \njeden Dienstag ausser während den Schulferien\nab 18.30 Uhr\, höchstens 2 Stunden \nMit Achtsamkeitsmeditation\, Meditation im Sitzen\, Liegen\, Gehen und achtsamen Körperübungen.\nAngeleitet durch eine MBSR-Lehrperson des Kernteams. Und angelehnt an Vipassana\, Metta\, Yoga und MBSR. \nauf Dana/Spenden-Basis für Raum & Lehrende \nHier sind alle Infos
URL:https://www.achtsam-zeit.ch/achtsamzeit/achtsamkeitspraxis-4/
LOCATION:Zendo am Fluss\,\, Luzern
CATEGORIES:Training
ATTACH;FMTTYPE=image/png:https://www.achtsam-zeit.ch/wp-content/uploads/2024/01/Achtsamkeitspraxis_Postkarte.png
END:VEVENT
BEGIN:VEVENT
DTSTART;TZID=Europe/Berlin:20250916T183000
DTEND;TZID=Europe/Berlin:20250916T203000
DTSTAMP:20260422T022537
CREATED:20250507T114727Z
LAST-MODIFIED:20250507T114727Z
UID:10000026-1758047400-1758054600@www.achtsam-zeit.ch
SUMMARY:Achtsamkeitspraxis
DESCRIPTION:Der MBSR Kreis Luzern lädt ein\, deine Praxis im Alltag zu verankern. \njeden Dienstag ausser während den Schulferien\nab 18.30 Uhr\, höchstens 2 Stunden \nMit Achtsamkeitsmeditation\, Meditation im Sitzen\, Liegen\, Gehen und achtsamen Körperübungen.\nAngeleitet durch eine MBSR-Lehrperson des Kernteams. Und angelehnt an Vipassana\, Metta\, Yoga und MBSR. \nauf Dana/Spenden-Basis für Raum & Lehrende \nHier sind alle Infos
URL:https://www.achtsam-zeit.ch/achtsamzeit/achtsamkeitspraxis-5/
LOCATION:Zendo am Fluss\,\, Luzern
CATEGORIES:Training
ATTACH;FMTTYPE=image/png:https://www.achtsam-zeit.ch/wp-content/uploads/2024/01/Achtsamkeitspraxis_Postkarte.png
END:VEVENT
BEGIN:VEVENT
DTSTART;TZID=Europe/Berlin:20250920T090000
DTEND;TZID=Europe/Berlin:20250920T160000
DTSTAMP:20260422T022537
CREATED:20250117T093522Z
LAST-MODIFIED:20250117T093522Z
UID:10000019-1758358800-1758384000@www.achtsam-zeit.ch
SUMMARY:Tag der Achtsamkeit
DESCRIPTION:Refresher-Stunden\nFinden zusammen mit der Gruppe des 8 Wochen-Kurses statt\n140.– / Person / Tag \nAnmelden
URL:https://www.achtsam-zeit.ch/achtsamzeit/tag-der-achtsamkeit-3/
LOCATION:BG Bell Kriens\,\, Obernauerstrasse 8\, Kriens\, Switzerland
CATEGORIES:Auszeit,Training
ATTACH;FMTTYPE=image/jpeg:https://www.achtsam-zeit.ch/wp-content/uploads/2024/09/ueber-den-Wolken_IMG_1579_quer.jpg
END:VEVENT
END:VCALENDAR