BEGIN:VCALENDAR
VERSION:2.0
PRODID:-//AchtsamZeit - ECPv6.15.20//NONSGML v1.0//EN
CALSCALE:GREGORIAN
METHOD:PUBLISH
X-ORIGINAL-URL:https://www.achtsam-zeit.ch
X-WR-CALDESC:Veranstaltungen für AchtsamZeit
REFRESH-INTERVAL;VALUE=DURATION:PT1H
X-Robots-Tag:noindex
X-PUBLISHED-TTL:PT1H
BEGIN:VTIMEZONE
TZID:Europe/Berlin
BEGIN:DAYLIGHT
TZOFFSETFROM:+0100
TZOFFSETTO:+0200
TZNAME:CEST
DTSTART:20250330T010000
END:DAYLIGHT
BEGIN:STANDARD
TZOFFSETFROM:+0200
TZOFFSETTO:+0100
TZNAME:CET
DTSTART:20251026T010000
END:STANDARD
BEGIN:DAYLIGHT
TZOFFSETFROM:+0100
TZOFFSETTO:+0200
TZNAME:CEST
DTSTART:20260329T010000
END:DAYLIGHT
BEGIN:STANDARD
TZOFFSETFROM:+0200
TZOFFSETTO:+0100
TZNAME:CET
DTSTART:20261025T010000
END:STANDARD
BEGIN:DAYLIGHT
TZOFFSETFROM:+0100
TZOFFSETTO:+0200
TZNAME:CEST
DTSTART:20270328T010000
END:DAYLIGHT
BEGIN:STANDARD
TZOFFSETFROM:+0200
TZOFFSETTO:+0100
TZNAME:CET
DTSTART:20271031T010000
END:STANDARD
END:VTIMEZONE
BEGIN:VEVENT
DTSTART;TZID=Europe/Berlin:20261015T184500
DTEND;TZID=Europe/Berlin:20261015T203000
DTSTAMP:20260421T165019
CREATED:20260122T132352Z
LAST-MODIFIED:20260122T132352Z
UID:10001216-1792089900-1792096200@www.achtsam-zeit.ch
SUMMARY:MINDFUL ROUTINE
DESCRIPTION:Ein Anschluss- und Vertiefungsangebot\n_9 kürzere Termine ab dem 23.4. verteilt über ein halbes Jahr\n_entlang der 9 Qualitäten der Achtsamkeitspraxis (u.a. Anfängergeist\, Dankbarkeit\, Loslassen)\n_eine Mischung aus Bekanntem\, Neuem und dem Austausch in der Gruppe\n_vor Ort in Luzern oder per Zoom zugeschaltet \n> tiefere Kurskosten für die Erstbucher:innen dieses neuen Kursformats 2026
URL:https://www.achtsam-zeit.ch/achtsamzeit/mindful-routine-8/
LOCATION:Raum M35\,\, Murbacherstrasse 35\, Luzern
CATEGORIES:Training,Vertiefung
ATTACH;FMTTYPE=image/jpeg:https://www.achtsam-zeit.ch/wp-content/uploads/2026/01/retreat_The-Good-Index-from-Pixabay.jpg
END:VEVENT
BEGIN:VEVENT
DTSTART;TZID=Europe/Berlin:20261022T184500
DTEND;TZID=Europe/Berlin:20261210T213000
DTSTAMP:20260421T165019
CREATED:20240909T083859Z
LAST-MODIFIED:20260129T130423Z
UID:10000004-1792694700-1796938200@www.achtsam-zeit.ch
SUMMARY:MBSR-Kurs
DESCRIPTION:Mindfulness Based Stress Reduction\nwöchentlich\, 8x Donnerstag-Abend\n22.10.-10.12.26\n18.45-21.30 Uhr\nSA 28.11. Tag der Achtsamkeit\n30 Kursstunden \nHier sind alle Infos
URL:https://www.achtsam-zeit.ch/achtsamzeit/8-wochen-kurs/
LOCATION:Raum M35\,\, Murbacherstrasse 35\, Luzern
CATEGORIES:8 Wochen-Kurs
ATTACH;FMTTYPE=image/jpeg:https://www.achtsam-zeit.ch/wp-content/uploads/2022/06/M35_Murbacherstr35-Luzern_bearbeitet-scaled.jpg
END:VEVENT
BEGIN:VEVENT
DTSTART;TZID=Europe/Berlin:20261113T150000
DTEND;TZID=Europe/Berlin:20261115T140000
DTSTAMP:20260421T165019
CREATED:20240909T090843Z
LAST-MODIFIED:20250407T084829Z
UID:10000007-1794582000-1794751200@www.achtsam-zeit.ch
SUMMARY:Retreat / Auszeit
DESCRIPTION:Ein Wochenende für dich:\nStille Meditationsformen und körperliche Achtsamkeit.\nGönn dir ein paar Tage ohne Ablenkung. \nHier sind alle Infos \n 
URL:https://www.achtsam-zeit.ch/achtsamzeit/retreat-auszeit/
LOCATION:Propstei Wislikofen\,\, Wislikofen\, 5463
CATEGORIES:Auszeit
ATTACH;FMTTYPE=image/jpeg:https://www.achtsam-zeit.ch/wp-content/uploads/2024/04/IMG_4465_von-Gerda-scaled.jpeg
END:VEVENT
BEGIN:VEVENT
DTSTART;TZID=Europe/Berlin:20261128T090000
DTEND;TZID=Europe/Berlin:20261128T160000
DTSTAMP:20260421T165019
CREATED:20260122T132707Z
LAST-MODIFIED:20260122T132707Z
UID:10001218-1795856400-1795881600@www.achtsam-zeit.ch
SUMMARY:Tag der Achtsamkeit
DESCRIPTION:Refresher-Stunden\nFinden zusammen mit der Gruppe des 8 Wochen-Kurses statt\n140.– / Person / Tag \nAnmelden
URL:https://www.achtsam-zeit.ch/achtsamzeit/tag-der-achtsamkeit-6/
LOCATION:Yoga-Zentrum Malters\,\, Werkstrasse 7\, Malters\, 6102
CATEGORIES:Auszeit,Training,Vertiefung
ATTACH;FMTTYPE=image/jpeg:https://www.achtsam-zeit.ch/wp-content/uploads/2024/09/ueber-den-Wolken_IMG_1579_quer.jpg
END:VEVENT
END:VCALENDAR