BEGIN:VCALENDAR
VERSION:2.0
PRODID:-//AchtsamZeit - ECPv6.15.20//NONSGML v1.0//EN
CALSCALE:GREGORIAN
METHOD:PUBLISH
X-ORIGINAL-URL:https://www.achtsam-zeit.ch
X-WR-CALDESC:Veranstaltungen für AchtsamZeit
REFRESH-INTERVAL;VALUE=DURATION:PT1H
X-Robots-Tag:noindex
X-PUBLISHED-TTL:PT1H
BEGIN:VTIMEZONE
TZID:Europe/Berlin
BEGIN:DAYLIGHT
TZOFFSETFROM:+0100
TZOFFSETTO:+0200
TZNAME:CEST
DTSTART:20250330T010000
END:DAYLIGHT
BEGIN:STANDARD
TZOFFSETFROM:+0200
TZOFFSETTO:+0100
TZNAME:CET
DTSTART:20251026T010000
END:STANDARD
BEGIN:DAYLIGHT
TZOFFSETFROM:+0100
TZOFFSETTO:+0200
TZNAME:CEST
DTSTART:20260329T010000
END:DAYLIGHT
BEGIN:STANDARD
TZOFFSETFROM:+0200
TZOFFSETTO:+0100
TZNAME:CET
DTSTART:20261025T010000
END:STANDARD
BEGIN:DAYLIGHT
TZOFFSETFROM:+0100
TZOFFSETTO:+0200
TZNAME:CEST
DTSTART:20270328T010000
END:DAYLIGHT
BEGIN:STANDARD
TZOFFSETFROM:+0200
TZOFFSETTO:+0100
TZNAME:CET
DTSTART:20271031T010000
END:STANDARD
END:VTIMEZONE
BEGIN:VEVENT
DTSTART;TZID=Europe/Berlin:20260420T060000
DTEND;TZID=Europe/Berlin:20260420T063000
DTSTAMP:20260421T164845
CREATED:20260111T163310Z
LAST-MODIFIED:20260111T163310Z
UID:10001186-1776664800-1776666600@www.achtsam-zeit.ch
SUMMARY:Mindful Morning
DESCRIPTION:Einfach nur sitzen – einfacher in der Gruppe.\nPer Zoom in Stille meditieren.\n50.– Fr. für 10 Mal / 10.– Fr. für 1 Mal
URL:https://www.achtsam-zeit.ch/achtsamzeit/mindful-morning-3/2026-04-20/
LOCATION:Online per Zoom\, Switzerland
CATEGORIES:Online,Training
ATTACH;FMTTYPE=image/jpeg:https://www.achtsam-zeit.ch/wp-content/uploads/2025/12/Mindful-Moring_Gestaltung.jpg
END:VEVENT
BEGIN:VEVENT
DTSTART;TZID=Europe/Berlin:20260402T060000
DTEND;TZID=Europe/Berlin:20260402T063000
DTSTAMP:20260421T164845
CREATED:20260111T162644Z
LAST-MODIFIED:20260205T095425Z
UID:10001175-1775109600-1775111400@www.achtsam-zeit.ch
SUMMARY:Mindful Morning
DESCRIPTION:Einfach nur sitzen – einfacher in der Gruppe.\nPer Zoom in Stille meditieren.\n50.– Fr. für 10 Mal / 10.– Fr. für 1 Mal
URL:https://www.achtsam-zeit.ch/achtsamzeit/mindful-morning-2/2026-04-02/
LOCATION:Online per Zoom\, Switzerland
CATEGORIES:Online,Training
ATTACH;FMTTYPE=image/jpeg:https://www.achtsam-zeit.ch/wp-content/uploads/2025/12/Mindful-Moring_Gestaltung.jpg
END:VEVENT
BEGIN:VEVENT
DTSTART;TZID=Europe/Berlin:20260330T060000
DTEND;TZID=Europe/Berlin:20260330T063000
DTSTAMP:20260421T164845
CREATED:20260111T162644Z
LAST-MODIFIED:20260205T095425Z
UID:10001174-1774850400-1774852200@www.achtsam-zeit.ch
SUMMARY:Mindful Morning
DESCRIPTION:Einfach nur sitzen – einfacher in der Gruppe.\nPer Zoom in Stille meditieren.\n50.– Fr. für 10 Mal / 10.– Fr. für 1 Mal
URL:https://www.achtsam-zeit.ch/achtsamzeit/mindful-morning-2/2026-03-30/
LOCATION:Online per Zoom\, Switzerland
CATEGORIES:Online,Training
ATTACH;FMTTYPE=image/jpeg:https://www.achtsam-zeit.ch/wp-content/uploads/2025/12/Mindful-Moring_Gestaltung.jpg
END:VEVENT
BEGIN:VEVENT
DTSTART;TZID=Europe/Berlin:20260329T190000
DTEND;TZID=Europe/Berlin:20260329T210000
DTSTAMP:20260421T164845
CREATED:20240909T094226Z
LAST-MODIFIED:20260111T160827Z
UID:10000012-1774810800-1774818000@www.achtsam-zeit.ch
SUMMARY:Anker-Abend
DESCRIPTION:Eine wiederkehrende Trainingseinheit\, um die Achtsamkeitspraxis nachhaltig ins Leben zu integrieren.\nVor Ort oder online per Zoom möglich\n30.– / Person / Abend\n10er-Abos für 270.–\nANMELDUNG: bis spätestens 17 Uhr per SMS oder Mail
URL:https://www.achtsam-zeit.ch/achtsamzeit/anker-abend-3/
LOCATION:Yoga-Zentrum Malters\,\, Werkstrasse 7\, Malters\, 6102
CATEGORIES:Training
ATTACH;FMTTYPE=image/png:https://www.achtsam-zeit.ch/wp-content/uploads/2024/11/Yoga-Raum-Malters-2024_01_klein.png
END:VEVENT
BEGIN:VEVENT
DTSTART;TZID=Europe/Berlin:20260327T140000
DTEND;TZID=Europe/Berlin:20260329T140000
DTSTAMP:20260421T164845
CREATED:20251205T101833Z
LAST-MODIFIED:20260226T082731Z
UID:10000034-1774620000-1774792800@www.achtsam-zeit.ch
SUMMARY:Achtsam Morgen
DESCRIPTION:Entfliehe dem Alltag und bring Klarheit in deine berufliche und persönliche Zukunft. \nPerspektiven-Workshop eingebettet in Achtsamkeitsübungen
URL:https://www.achtsam-zeit.ch/achtsamzeit/achtsam-morgen/
LOCATION:Propstei Wislikofen\,\, Wislikofen\, 5463
CATEGORIES:Auszeit,Input
ATTACH;FMTTYPE=image/jpeg:https://www.achtsam-zeit.ch/wp-content/uploads/2025/09/Achtsam-Morgen-2026_Titelbild.jpg
END:VEVENT
BEGIN:VEVENT
DTSTART;TZID=Europe/Berlin:20260326T184500
DTEND;TZID=Europe/Berlin:20260326T204500
DTSTAMP:20260421T164845
CREATED:20260120T143503Z
LAST-MODIFIED:20260223T073855Z
UID:10001205-1774550700-1774557900@www.achtsam-zeit.ch
SUMMARY:Mindful Tryout I : Achtsamkeit & Wahrnehmung
DESCRIPTION:Ist diese Achtsamkeit etwas für mich? \nFinde es raus im ersten Date mit der Achtsamkeit \n_einer von vier kostenfreien Schnupper-Workshops\n_je ein Thema pro zweistündigem Input:\nAchtsamkeit & Wahrnehmung / Stress / Körper / Kommunikation\n_einzeln buchbar \nvor Ort im M35\, Luzern\nODER Online \nBild: Ashiq Raazz from Pixabay
URL:https://www.achtsam-zeit.ch/achtsamzeit/mindful-tryout-i-achtsamkeit-wahrnehmung/
LOCATION:Raum M35\,\, Murbacherstrasse 35\, Luzern
CATEGORIES:Input,Online,Training
ATTACH;FMTTYPE=image/jpeg:https://www.achtsam-zeit.ch/wp-content/uploads/2026/01/Wahrnehmung_woman-7207493_1280_Ashiq-Raazz-from-Pixabay.jpg
END:VEVENT
BEGIN:VEVENT
DTSTART;TZID=Europe/Berlin:20260326T060000
DTEND;TZID=Europe/Berlin:20260326T063000
DTSTAMP:20260421T164845
CREATED:20260111T162644Z
LAST-MODIFIED:20260205T095425Z
UID:10001173-1774504800-1774506600@www.achtsam-zeit.ch
SUMMARY:Mindful Morning
DESCRIPTION:Einfach nur sitzen – einfacher in der Gruppe.\nPer Zoom in Stille meditieren.\n50.– Fr. für 10 Mal / 10.– Fr. für 1 Mal
URL:https://www.achtsam-zeit.ch/achtsamzeit/mindful-morning-2/2026-03-26/
LOCATION:Online per Zoom\, Switzerland
CATEGORIES:Online,Training
ATTACH;FMTTYPE=image/jpeg:https://www.achtsam-zeit.ch/wp-content/uploads/2025/12/Mindful-Moring_Gestaltung.jpg
END:VEVENT
BEGIN:VEVENT
DTSTART;TZID=Europe/Berlin:20260323T060000
DTEND;TZID=Europe/Berlin:20260323T063000
DTSTAMP:20260421T164845
CREATED:20260111T162644Z
LAST-MODIFIED:20260205T095425Z
UID:10001172-1774245600-1774247400@www.achtsam-zeit.ch
SUMMARY:Mindful Morning
DESCRIPTION:Einfach nur sitzen – einfacher in der Gruppe.\nPer Zoom in Stille meditieren.\n50.– Fr. für 10 Mal / 10.– Fr. für 1 Mal
URL:https://www.achtsam-zeit.ch/achtsamzeit/mindful-morning-2/2026-03-23/
LOCATION:Online per Zoom\, Switzerland
CATEGORIES:Online,Training
ATTACH;FMTTYPE=image/jpeg:https://www.achtsam-zeit.ch/wp-content/uploads/2025/12/Mindful-Moring_Gestaltung.jpg
END:VEVENT
BEGIN:VEVENT
DTSTART;TZID=Europe/Berlin:20260319T060000
DTEND;TZID=Europe/Berlin:20260319T063000
DTSTAMP:20260421T164845
CREATED:20260111T162644Z
LAST-MODIFIED:20260205T095425Z
UID:10001171-1773900000-1773901800@www.achtsam-zeit.ch
SUMMARY:Mindful Morning
DESCRIPTION:Einfach nur sitzen – einfacher in der Gruppe.\nPer Zoom in Stille meditieren.\n50.– Fr. für 10 Mal / 10.– Fr. für 1 Mal
URL:https://www.achtsam-zeit.ch/achtsamzeit/mindful-morning-2/2026-03-19/
LOCATION:Online per Zoom\, Switzerland
CATEGORIES:Online,Training
ATTACH;FMTTYPE=image/jpeg:https://www.achtsam-zeit.ch/wp-content/uploads/2025/12/Mindful-Moring_Gestaltung.jpg
END:VEVENT
BEGIN:VEVENT
DTSTART;TZID=Europe/Berlin:20260316T060000
DTEND;TZID=Europe/Berlin:20260316T063000
DTSTAMP:20260421T164845
CREATED:20260111T162644Z
LAST-MODIFIED:20260205T095425Z
UID:10001170-1773640800-1773642600@www.achtsam-zeit.ch
SUMMARY:Mindful Morning
DESCRIPTION:Einfach nur sitzen – einfacher in der Gruppe.\nPer Zoom in Stille meditieren.\n50.– Fr. für 10 Mal / 10.– Fr. für 1 Mal
URL:https://www.achtsam-zeit.ch/achtsamzeit/mindful-morning-2/2026-03-16/
LOCATION:Online per Zoom\, Switzerland
CATEGORIES:Online,Training
ATTACH;FMTTYPE=image/jpeg:https://www.achtsam-zeit.ch/wp-content/uploads/2025/12/Mindful-Moring_Gestaltung.jpg
END:VEVENT
BEGIN:VEVENT
DTSTART;TZID=Europe/Berlin:20260312T060000
DTEND;TZID=Europe/Berlin:20260312T063000
DTSTAMP:20260421T164845
CREATED:20260111T162644Z
LAST-MODIFIED:20260205T095425Z
UID:10001169-1773295200-1773297000@www.achtsam-zeit.ch
SUMMARY:Mindful Morning
DESCRIPTION:Einfach nur sitzen – einfacher in der Gruppe.\nPer Zoom in Stille meditieren.\n50.– Fr. für 10 Mal / 10.– Fr. für 1 Mal
URL:https://www.achtsam-zeit.ch/achtsamzeit/mindful-morning-2/2026-03-12/
LOCATION:Online per Zoom\, Switzerland
CATEGORIES:Online,Training
ATTACH;FMTTYPE=image/jpeg:https://www.achtsam-zeit.ch/wp-content/uploads/2025/12/Mindful-Moring_Gestaltung.jpg
END:VEVENT
BEGIN:VEVENT
DTSTART;TZID=Europe/Berlin:20260309T060000
DTEND;TZID=Europe/Berlin:20260309T063000
DTSTAMP:20260421T164845
CREATED:20260111T162644Z
LAST-MODIFIED:20260205T095425Z
UID:10001168-1773036000-1773037800@www.achtsam-zeit.ch
SUMMARY:Mindful Morning
DESCRIPTION:Einfach nur sitzen – einfacher in der Gruppe.\nPer Zoom in Stille meditieren.\n50.– Fr. für 10 Mal / 10.– Fr. für 1 Mal
URL:https://www.achtsam-zeit.ch/achtsamzeit/mindful-morning-2/2026-03-09/
LOCATION:Online per Zoom\, Switzerland
CATEGORIES:Online,Training
ATTACH;FMTTYPE=image/jpeg:https://www.achtsam-zeit.ch/wp-content/uploads/2025/12/Mindful-Moring_Gestaltung.jpg
END:VEVENT
BEGIN:VEVENT
DTSTART;TZID=Europe/Berlin:20260308T190000
DTEND;TZID=Europe/Berlin:20260308T210000
DTSTAMP:20260421T164845
CREATED:20240909T094053Z
LAST-MODIFIED:20260111T160755Z
UID:10000011-1772996400-1773003600@www.achtsam-zeit.ch
SUMMARY:Anker-Abend
DESCRIPTION:Eine wiederkehrende Trainingseinheit\, um die Achtsamkeitspraxis nachhaltig ins Leben zu integrieren.\nVor Ort oder online per Zoom möglich\n30.– / Person / Abend\n10er-Abos für 270.–\nANMELDUNG: bis spätestens 17 Uhr per SMS oder Mail
URL:https://www.achtsam-zeit.ch/achtsamzeit/anker-abend-2/
LOCATION:Yoga-Zentrum Malters\,\, Werkstrasse 7\, Malters\, 6102
CATEGORIES:Training
ATTACH;FMTTYPE=image/png:https://www.achtsam-zeit.ch/wp-content/uploads/2024/11/Yoga-Raum-Malters-2024_01_klein.png
END:VEVENT
BEGIN:VEVENT
DTSTART;TZID=Europe/Berlin:20260307T090000
DTEND;TZID=Europe/Berlin:20260307T160000
DTSTAMP:20260421T164845
CREATED:20240909T095436Z
LAST-MODIFIED:20251022T132508Z
UID:10000014-1772874000-1772899200@www.achtsam-zeit.ch
SUMMARY:Tag der Achtsamkeit
DESCRIPTION:Refresher-Stunden\nFinden zusammen mit der Gruppe des 8 Wochen-Kurses statt\n140.– / Person / Tag \nAnmelden
URL:https://www.achtsam-zeit.ch/achtsamzeit/tag-der-achtsamkeit-2/
LOCATION:Yoga-Zentrum Malters\,\, Werkstrasse 7\, Malters\, 6102
CATEGORIES:Auszeit,Training
ATTACH;FMTTYPE=image/jpeg:https://www.achtsam-zeit.ch/wp-content/uploads/2024/09/ueber-den-Wolken_IMG_1579_quer.jpg
END:VEVENT
BEGIN:VEVENT
DTSTART;TZID=Europe/Berlin:20260305T060000
DTEND;TZID=Europe/Berlin:20260305T063000
DTSTAMP:20260421T164845
CREATED:20260111T162644Z
LAST-MODIFIED:20260205T095425Z
UID:10001167-1772690400-1772692200@www.achtsam-zeit.ch
SUMMARY:Mindful Morning
DESCRIPTION:Einfach nur sitzen – einfacher in der Gruppe.\nPer Zoom in Stille meditieren.\n50.– Fr. für 10 Mal / 10.– Fr. für 1 Mal
URL:https://www.achtsam-zeit.ch/achtsamzeit/mindful-morning-2/2026-03-05/
LOCATION:Online per Zoom\, Switzerland
CATEGORIES:Online,Training
ATTACH;FMTTYPE=image/jpeg:https://www.achtsam-zeit.ch/wp-content/uploads/2025/12/Mindful-Moring_Gestaltung.jpg
END:VEVENT
BEGIN:VEVENT
DTSTART;TZID=Europe/Berlin:20260302T060000
DTEND;TZID=Europe/Berlin:20260302T063000
DTSTAMP:20260421T164845
CREATED:20260111T162644Z
LAST-MODIFIED:20260205T095425Z
UID:10001166-1772431200-1772433000@www.achtsam-zeit.ch
SUMMARY:Mindful Morning
DESCRIPTION:Einfach nur sitzen – einfacher in der Gruppe.\nPer Zoom in Stille meditieren.\n50.– Fr. für 10 Mal / 10.– Fr. für 1 Mal
URL:https://www.achtsam-zeit.ch/achtsamzeit/mindful-morning-2/2026-03-02/
LOCATION:Online per Zoom\, Switzerland
CATEGORIES:Online,Training
ATTACH;FMTTYPE=image/jpeg:https://www.achtsam-zeit.ch/wp-content/uploads/2025/12/Mindful-Moring_Gestaltung.jpg
END:VEVENT
BEGIN:VEVENT
DTSTART;TZID=Europe/Berlin:20260226T060000
DTEND;TZID=Europe/Berlin:20260226T063000
DTSTAMP:20260421T164845
CREATED:20260111T162644Z
LAST-MODIFIED:20260205T095425Z
UID:10001220-1772085600-1772087400@www.achtsam-zeit.ch
SUMMARY:Mindful Morning
DESCRIPTION:Einfach nur sitzen – einfacher in der Gruppe.\nPer Zoom in Stille meditieren.\n50.– Fr. für 10 Mal / 10.– Fr. für 1 Mal
URL:https://www.achtsam-zeit.ch/achtsamzeit/mindful-morning-2/2026-02-26/
LOCATION:Online per Zoom\, Switzerland
CATEGORIES:Online,Training
ATTACH;FMTTYPE=image/jpeg:https://www.achtsam-zeit.ch/wp-content/uploads/2025/12/Mindful-Moring_Gestaltung.jpg
END:VEVENT
BEGIN:VEVENT
DTSTART;TZID=Europe/Berlin:20260223T060000
DTEND;TZID=Europe/Berlin:20260223T063000
DTSTAMP:20260421T164845
CREATED:20260111T162644Z
LAST-MODIFIED:20260205T095425Z
UID:10001219-1771826400-1771828200@www.achtsam-zeit.ch
SUMMARY:Mindful Morning
DESCRIPTION:Einfach nur sitzen – einfacher in der Gruppe.\nPer Zoom in Stille meditieren.\n50.– Fr. für 10 Mal / 10.– Fr. für 1 Mal
URL:https://www.achtsam-zeit.ch/achtsamzeit/mindful-morning-2/2026-02-23/
LOCATION:Online per Zoom\, Switzerland
CATEGORIES:Online,Training
ATTACH;FMTTYPE=image/jpeg:https://www.achtsam-zeit.ch/wp-content/uploads/2025/12/Mindful-Moring_Gestaltung.jpg
END:VEVENT
BEGIN:VEVENT
DTSTART;TZID=Europe/Berlin:20260206T190000
DTEND;TZID=Europe/Berlin:20260206T210000
DTSTAMP:20260421T164845
CREATED:20240909T093902Z
LAST-MODIFIED:20260111T160656Z
UID:10000010-1770404400-1770411600@www.achtsam-zeit.ch
SUMMARY:Anker-Abend
DESCRIPTION:Eine wiederkehrende Trainingseinheit\, um die Achtsamkeitspraxis nachhaltig ins Leben zu integrieren.\nVor Ort oder online per Zoom möglich\n30.– / Person / Abend\n10er-Abos für 270.–\nANMELDUNG: bis spätestens 17 Uhr per SMS oder Mail
URL:https://www.achtsam-zeit.ch/achtsamzeit/anker-abend/
LOCATION:Yoga-Zentrum Malters\,\, Werkstrasse 7\, Malters\, 6102
CATEGORIES:Training
ATTACH;FMTTYPE=image/png:https://www.achtsam-zeit.ch/wp-content/uploads/2024/11/Yoga-Raum-Malters-2024_01_klein.png
END:VEVENT
BEGIN:VEVENT
DTSTART;TZID=Europe/Berlin:20260205T060000
DTEND;TZID=Europe/Berlin:20260205T063000
DTSTAMP:20260421T164845
CREATED:20260111T161742Z
LAST-MODIFIED:20260111T162404Z
UID:10001115-1770271200-1770273000@www.achtsam-zeit.ch
SUMMARY:Mindful Morning
DESCRIPTION:Einfach nur sitzen – einfacher in der Gruppe.\nPer Zoom in Stille meditieren.\n50.– Fr. für 10 Mal / 10.– Fr. für 1 Mal
URL:https://www.achtsam-zeit.ch/achtsamzeit/mindful-morning/2026-02-05/
LOCATION:Online per Zoom\, Switzerland
CATEGORIES:Online,Training
ATTACH;FMTTYPE=image/jpeg:https://www.achtsam-zeit.ch/wp-content/uploads/2025/12/Mindful-Moring_Gestaltung.jpg
END:VEVENT
BEGIN:VEVENT
DTSTART;TZID=Europe/Berlin:20260202T060000
DTEND;TZID=Europe/Berlin:20260202T063000
DTSTAMP:20260421T164845
CREATED:20260111T161742Z
LAST-MODIFIED:20260111T162404Z
UID:10001114-1770012000-1770013800@www.achtsam-zeit.ch
SUMMARY:Mindful Morning
DESCRIPTION:Einfach nur sitzen – einfacher in der Gruppe.\nPer Zoom in Stille meditieren.\n50.– Fr. für 10 Mal / 10.– Fr. für 1 Mal
URL:https://www.achtsam-zeit.ch/achtsamzeit/mindful-morning/2026-02-02/
LOCATION:Online per Zoom\, Switzerland
CATEGORIES:Online,Training
ATTACH;FMTTYPE=image/jpeg:https://www.achtsam-zeit.ch/wp-content/uploads/2025/12/Mindful-Moring_Gestaltung.jpg
END:VEVENT
BEGIN:VEVENT
DTSTART;TZID=Europe/Berlin:20260129T060000
DTEND;TZID=Europe/Berlin:20260129T063000
DTSTAMP:20260421T164845
CREATED:20260111T161742Z
LAST-MODIFIED:20260111T162404Z
UID:10001113-1769666400-1769668200@www.achtsam-zeit.ch
SUMMARY:Mindful Morning
DESCRIPTION:Einfach nur sitzen – einfacher in der Gruppe.\nPer Zoom in Stille meditieren.\n50.– Fr. für 10 Mal / 10.– Fr. für 1 Mal
URL:https://www.achtsam-zeit.ch/achtsamzeit/mindful-morning/2026-01-29/
LOCATION:Online per Zoom\, Switzerland
CATEGORIES:Online,Training
ATTACH;FMTTYPE=image/jpeg:https://www.achtsam-zeit.ch/wp-content/uploads/2025/12/Mindful-Moring_Gestaltung.jpg
END:VEVENT
BEGIN:VEVENT
DTSTART;TZID=Europe/Berlin:20260127T183000
DTEND;TZID=Europe/Berlin:20260127T203000
DTSTAMP:20260421T164845
CREATED:20250507T114930Z
LAST-MODIFIED:20260121T163631Z
UID:10000028-1769538600-1769545800@www.achtsam-zeit.ch
SUMMARY:Achtsamkeitspraxis
DESCRIPTION:Der MBSR Kreis Luzern lädt ein\, deine Praxis im Alltag zu verankern. \njeden Dienstag ausser während den Schulferien\nab 18.30 Uhr\, höchstens 2 Stunden \nMit Achtsamkeitsmeditation\, Meditation im Sitzen\, Liegen\, Gehen und achtsamen Körperübungen.\nAngeleitet durch eine MBSR-Lehrperson des Kernteams. Und angelehnt an Vipassana\, Metta\, Yoga und MBSR. \nauf Dana/Spenden-Basis für Raum & Lehrende \nHier sind alle Infos
URL:https://www.achtsam-zeit.ch/achtsamzeit/achtsamkeitspraxis-7/
LOCATION:Zendo am Fluss\,\, Luzern
CATEGORIES:Training
ATTACH;FMTTYPE=image/png:https://www.achtsam-zeit.ch/wp-content/uploads/2024/01/Achtsamkeitspraxis_Postkarte.png
END:VEVENT
BEGIN:VEVENT
DTSTART;TZID=Europe/Berlin:20260126T060000
DTEND;TZID=Europe/Berlin:20260126T063000
DTSTAMP:20260421T164845
CREATED:20260111T161742Z
LAST-MODIFIED:20260111T162404Z
UID:10001112-1769407200-1769409000@www.achtsam-zeit.ch
SUMMARY:Mindful Morning
DESCRIPTION:Einfach nur sitzen – einfacher in der Gruppe.\nPer Zoom in Stille meditieren.\n50.– Fr. für 10 Mal / 10.– Fr. für 1 Mal
URL:https://www.achtsam-zeit.ch/achtsamzeit/mindful-morning/2026-01-26/
LOCATION:Online per Zoom\, Switzerland
CATEGORIES:Online,Training
ATTACH;FMTTYPE=image/jpeg:https://www.achtsam-zeit.ch/wp-content/uploads/2025/12/Mindful-Moring_Gestaltung.jpg
END:VEVENT
BEGIN:VEVENT
DTSTART;TZID=Europe/Berlin:20260122T060000
DTEND;TZID=Europe/Berlin:20260122T063000
DTSTAMP:20260421T164845
CREATED:20260111T161742Z
LAST-MODIFIED:20260111T162404Z
UID:10001111-1769061600-1769063400@www.achtsam-zeit.ch
SUMMARY:Mindful Morning
DESCRIPTION:Einfach nur sitzen – einfacher in der Gruppe.\nPer Zoom in Stille meditieren.\n50.– Fr. für 10 Mal / 10.– Fr. für 1 Mal
URL:https://www.achtsam-zeit.ch/achtsamzeit/mindful-morning/2026-01-22/
LOCATION:Online per Zoom\, Switzerland
CATEGORIES:Online,Training
ATTACH;FMTTYPE=image/jpeg:https://www.achtsam-zeit.ch/wp-content/uploads/2025/12/Mindful-Moring_Gestaltung.jpg
END:VEVENT
BEGIN:VEVENT
DTSTART;TZID=Europe/Berlin:20260119T083000
DTEND;TZID=Europe/Berlin:20260120T111500
DTSTAMP:20260421T164845
CREATED:20250117T094147Z
LAST-MODIFIED:20260120T140324Z
UID:10000021-1768811400-1768907700@www.achtsam-zeit.ch
SUMMARY:MBSR-Kurs
DESCRIPTION:Mindfulness Based Stress Reduction\nwöchentlich\, 8x Montag-Vormittag\n19.1.-16.3.26\n8.30-11.15 Uhr\nSA 7.3. Tag der Achtsamkeit\n30 Kursstunden \nHier sind alle Infos
URL:https://www.achtsam-zeit.ch/achtsamzeit/8-wochen-kurs-7/
LOCATION:Yoga-Zentrum Malters\,\, Werkstrasse 7\, Malters\, 6102
CATEGORIES:8 Wochen-Kurs
ATTACH;FMTTYPE=image/png:https://www.achtsam-zeit.ch/wp-content/uploads/2024/11/Yoga-Raum-Malters-2024_01_klein.png
END:VEVENT
BEGIN:VEVENT
DTSTART;TZID=Europe/Berlin:20260119T060000
DTEND;TZID=Europe/Berlin:20260119T063000
DTSTAMP:20260421T164845
CREATED:20260111T161742Z
LAST-MODIFIED:20260111T162404Z
UID:10001110-1768802400-1768804200@www.achtsam-zeit.ch
SUMMARY:Mindful Morning
DESCRIPTION:Einfach nur sitzen – einfacher in der Gruppe.\nPer Zoom in Stille meditieren.\n50.– Fr. für 10 Mal / 10.– Fr. für 1 Mal
URL:https://www.achtsam-zeit.ch/achtsamzeit/mindful-morning/2026-01-19/
LOCATION:Online per Zoom\, Switzerland
CATEGORIES:Online,Training
ATTACH;FMTTYPE=image/jpeg:https://www.achtsam-zeit.ch/wp-content/uploads/2025/12/Mindful-Moring_Gestaltung.jpg
END:VEVENT
BEGIN:VEVENT
DTSTART;TZID=Europe/Berlin:20260115T060000
DTEND;TZID=Europe/Berlin:20260115T063000
DTSTAMP:20260421T164845
CREATED:20260111T161742Z
LAST-MODIFIED:20260111T162404Z
UID:10001109-1768456800-1768458600@www.achtsam-zeit.ch
SUMMARY:Mindful Morning
DESCRIPTION:Einfach nur sitzen – einfacher in der Gruppe.\nPer Zoom in Stille meditieren.\n50.– Fr. für 10 Mal / 10.– Fr. für 1 Mal
URL:https://www.achtsam-zeit.ch/achtsamzeit/mindful-morning/2026-01-15/
LOCATION:Online per Zoom\, Switzerland
CATEGORIES:Online,Training
ATTACH;FMTTYPE=image/jpeg:https://www.achtsam-zeit.ch/wp-content/uploads/2025/12/Mindful-Moring_Gestaltung.jpg
END:VEVENT
BEGIN:VEVENT
DTSTART;TZID=Europe/Berlin:20260114T190000
DTEND;TZID=Europe/Berlin:20260114T203000
DTSTAMP:20260421T164845
CREATED:20251022T134000Z
LAST-MODIFIED:20251022T134156Z
UID:10000033-1768417200-1768422600@www.achtsam-zeit.ch
SUMMARY:Input\, Infos & Übungen
DESCRIPTION:19 Uhr Pfarreisaal Malters\nOrganisiert vom www.gfmalters.ch\nAlle Infos hier
URL:https://www.achtsam-zeit.ch/achtsamzeit/input-infos-uebungen/
LOCATION:Pfarreisaal Malters\, Malters\, 6102\, Switzerland
CATEGORIES:Input
ATTACH;FMTTYPE=image/jpeg:https://www.achtsam-zeit.ch/wp-content/uploads/2025/10/IMG_9413.jpg
END:VEVENT
BEGIN:VEVENT
DTSTART;TZID=Europe/Berlin:20260112T060000
DTEND;TZID=Europe/Berlin:20260112T063000
DTSTAMP:20260421T164845
CREATED:20260111T161742Z
LAST-MODIFIED:20260111T162404Z
UID:10001108-1768197600-1768199400@www.achtsam-zeit.ch
SUMMARY:Mindful Morning
DESCRIPTION:Einfach nur sitzen – einfacher in der Gruppe.\nPer Zoom in Stille meditieren.\n50.– Fr. für 10 Mal / 10.– Fr. für 1 Mal
URL:https://www.achtsam-zeit.ch/achtsamzeit/mindful-morning/2026-01-12/
LOCATION:Online per Zoom\, Switzerland
CATEGORIES:Online,Training
ATTACH;FMTTYPE=image/jpeg:https://www.achtsam-zeit.ch/wp-content/uploads/2025/12/Mindful-Moring_Gestaltung.jpg
END:VEVENT
END:VCALENDAR